BEGIN:VCALENDAR
VERSION:2.0
PRODID:-//AHD Vintners - ECPv6.15.13.1//NONSGML v1.0//EN
CALSCALE:GREGORIAN
METHOD:PUBLISH
X-WR-CALNAME:AHD Vintners
X-ORIGINAL-URL:https://www.ahdvintners.com
X-WR-CALDESC:Events for AHD Vintners
REFRESH-INTERVAL;VALUE=DURATION:PT1H
X-Robots-Tag:noindex
X-PUBLISHED-TTL:PT1H
BEGIN:VTIMEZONE
TZID:UTC
BEGIN:STANDARD
TZOFFSETFROM:+0000
TZOFFSETTO:+0000
TZNAME:UTC
DTSTART:20230101T000000
END:STANDARD
END:VTIMEZONE
BEGIN:VEVENT
DTSTART;TZID=UTC:20240925T130000
DTEND;TZID=UTC:20240925T160000
DTSTAMP:20260424T164216
CREATED:20240920T175032Z
LAST-MODIFIED:20240920T191008Z
UID:1964-1727269200-1727280000@www.ahdvintners.com
SUMMARY:Peter Weygandt Portfolio Tasting - Ann Arbor Trade
DESCRIPTION:Join us at Post Off for a tasting with Peter Weygandt of Peter Weygandt Imports. Open to the trade only. \nSince 1987\, Peter Weygandt has been an importer of French wines and has gained a national and international reputation for the quality of his selections and his portfolio of top “boutique” French wines. Peter Weygandt Selections are a near constant feature of top wine journals including Robert M. Parker\, Jr.’s The Wine Advocate\, The Wine Spectator\, Stephen Tanzer’s International Wine Cellar\, and Burghound\, and Peter Weygandt has been mentioned in articles in Time Magazine\, The New York Times\, and featured in Business Monthly and numerous times in various wine publications\, most recently Food and Wine Magazine. \nIn recent years he has expanded his portfolio to include Italian\, German\, Austrian\, Georgian\, Spanish and Portuguese wines\, more than 120 producers in all. \n“One of the small specialty importers with impeccable credentials as well as a great palate\, the unassuming gentleman\, Peter Weygandt\, does as fine a job as anybody in the business\, culling out great wines from France and Austria. His low profile personality rarely generates much noise for himself\, but he does not have to given the impeccable quality of his portfolio. Readers who do not have access to Weygandt-Metzler offerings are missing some of the finest values as well as best imports in the United States.” – Robert M. Parker\, Jr. – Wine Personalities of the Year\, The Wine Advocate\, 144.
URL:https://www.ahdvintners.com/event/peter-weygandt-portfolio-tasting-ann-arbor-trade/
LOCATION:York\, 1928 Packard St.\, Ann Arbor\, MI\, 48104\, United States
CATEGORIES:Trade Only
ORGANIZER;CN="AHD Vintners":MAILTO:caroline.lamb@ahdvintners.com
END:VEVENT
BEGIN:VEVENT
DTSTART;TZID=UTC:20240924T130000
DTEND;TZID=UTC:20240924T160000
DTSTAMP:20260424T164216
CREATED:20240920T174021Z
LAST-MODIFIED:20240920T191026Z
UID:1948-1727182800-1727193600@www.ahdvintners.com
SUMMARY:Peter Weygandt Portfolio Tasting - Grand Rapids Trade
DESCRIPTION:Join us at Post Off for a tasting with Peter Weygandt of Peter Weygandt Imports. Open to the trade only. \nSince 1987\, Peter Weygandt has been an importer of French wines and has gained a national and international reputation for the quality of his selections and his portfolio of top “boutique” French wines. Peter Weygandt Selections are a near constant feature of top wine journals including Robert M. Parker\, Jr.’s The Wine Advocate\, The Wine Spectator\, Stephen Tanzer’s International Wine Cellar\, and Burghound\, and Peter Weygandt has been mentioned in articles in Time Magazine\, The New York Times\, and featured in Business Monthly and numerous times in various wine publications\, most recently Food and Wine Magazine. \nIn recent years he has expanded his portfolio to include Italian\, German\, Austrian\, Georgian\, Spanish and Portuguese wines\, more than 120 producers in all. \n“One of the small specialty importers with impeccable credentials as well as a great palate\, the unassuming gentleman\, Peter Weygandt\, does as fine a job as anybody in the business\, culling out great wines from France and Austria. His low profile personality rarely generates much noise for himself\, but he does not have to given the impeccable quality of his portfolio. Readers who do not have access to Weygandt-Metzler offerings are missing some of the finest values as well as best imports in the United States.” – Robert M. Parker\, Jr. – Wine Personalities of the Year\, The Wine Advocate\, 144.
URL:https://www.ahdvintners.com/event/peter-weygandt-portfolio-tasting-grand-rapids-trade/
LOCATION:Post Off\, 952 Fulton St. E\, Grand Rapids\, MI\, 49503\, United States
CATEGORIES:Trade Only
ORGANIZER;CN="AHD Vintners":MAILTO:caroline.lamb@ahdvintners.com
END:VEVENT
END:VCALENDAR