BEGIN:VCALENDAR
VERSION:2.0
PRODID:-//AHD Vintners - ECPv6.15.13.1//NONSGML v1.0//EN
CALSCALE:GREGORIAN
METHOD:PUBLISH
X-ORIGINAL-URL:https://www.ahdvintners.com
X-WR-CALDESC:Events for AHD Vintners
REFRESH-INTERVAL;VALUE=DURATION:PT1H
X-Robots-Tag:noindex
X-PUBLISHED-TTL:PT1H
BEGIN:VTIMEZONE
TZID:America/Detroit
BEGIN:DAYLIGHT
TZOFFSETFROM:-0500
TZOFFSETTO:-0400
TZNAME:EDT
DTSTART:20240310T070000
END:DAYLIGHT
BEGIN:STANDARD
TZOFFSETFROM:-0400
TZOFFSETTO:-0500
TZNAME:EST
DTSTART:20241103T060000
END:STANDARD
BEGIN:DAYLIGHT
TZOFFSETFROM:-0500
TZOFFSETTO:-0400
TZNAME:EDT
DTSTART:20250309T070000
END:DAYLIGHT
BEGIN:STANDARD
TZOFFSETFROM:-0400
TZOFFSETTO:-0500
TZNAME:EST
DTSTART:20251102T060000
END:STANDARD
BEGIN:DAYLIGHT
TZOFFSETFROM:-0500
TZOFFSETTO:-0400
TZNAME:EDT
DTSTART:20260308T070000
END:DAYLIGHT
BEGIN:STANDARD
TZOFFSETFROM:-0400
TZOFFSETTO:-0500
TZNAME:EST
DTSTART:20261101T060000
END:STANDARD
END:VTIMEZONE
BEGIN:VTIMEZONE
TZID:America/New_York
BEGIN:DAYLIGHT
TZOFFSETFROM:-0500
TZOFFSETTO:-0400
TZNAME:EDT
DTSTART:20230312T070000
END:DAYLIGHT
BEGIN:STANDARD
TZOFFSETFROM:-0400
TZOFFSETTO:-0500
TZNAME:EST
DTSTART:20231105T060000
END:STANDARD
BEGIN:DAYLIGHT
TZOFFSETFROM:-0500
TZOFFSETTO:-0400
TZNAME:EDT
DTSTART:20240310T070000
END:DAYLIGHT
BEGIN:STANDARD
TZOFFSETFROM:-0400
TZOFFSETTO:-0500
TZNAME:EST
DTSTART:20241103T060000
END:STANDARD
BEGIN:DAYLIGHT
TZOFFSETFROM:-0500
TZOFFSETTO:-0400
TZNAME:EDT
DTSTART:20250309T070000
END:DAYLIGHT
BEGIN:STANDARD
TZOFFSETFROM:-0400
TZOFFSETTO:-0500
TZNAME:EST
DTSTART:20251102T060000
END:STANDARD
BEGIN:DAYLIGHT
TZOFFSETFROM:-0500
TZOFFSETTO:-0400
TZNAME:EDT
DTSTART:20260308T070000
END:DAYLIGHT
BEGIN:STANDARD
TZOFFSETFROM:-0400
TZOFFSETTO:-0500
TZNAME:EST
DTSTART:20261101T060000
END:STANDARD
END:VTIMEZONE
BEGIN:VEVENT
DTSTART;TZID=America/Detroit:20250503T090000
DTEND;TZID=America/Detroit:20250503T130000
DTSTAMP:20260424T164407
CREATED:20250417T142558Z
LAST-MODIFIED:20250417T144205Z
UID:2084-1746262800-1746277200@www.ahdvintners.com
SUMMARY:Community Tree Planting w/ The Greening of Detroit
DESCRIPTION:Please join us for a community tree planting hosted by The Greening of Detroit to celebrate Earth Day. For the entire month of April\, our winery partner Hobo Wine Co. is donating to the Greening of Detroit through 1% for the Planet. Register at the Eventbrite link below!
URL:https://www.ahdvintners.com/event/community-tree-planting-w-the-greening-of-detroit/
CATEGORIES:Open to Public,Trade
END:VEVENT
BEGIN:VEVENT
DTSTART;TZID=America/Detroit:20250427T130000
DTEND;TZID=America/Detroit:20250427T170000
DTSTAMP:20260424T164407
CREATED:20250417T140149Z
LAST-MODIFIED:20250417T140149Z
UID:2080-1745758800-1745773200@www.ahdvintners.com
SUMMARY:Whittaker Wine Walk Returns
DESCRIPTION:SW Michigan’s favorite tasting event us back and better than ever! Explore\, sample and purchase dozens of wines from around the world.
URL:https://www.ahdvintners.com/event/whittaker-wine-walk-returns/
LOCATION:The Historian\, 12856 Red Arrow Hwy\, Sawyer\, MI\, United States
CATEGORIES:Open to Public
ORGANIZER;CN="AHD Vintners":MAILTO:caroline.lamb@ahdvintners.com
END:VEVENT
BEGIN:VEVENT
DTSTART;TZID=America/New_York:20250404T160000
DTEND;TZID=America/New_York:20250404T180000
DTSTAMP:20260424T164407
CREATED:20250217T150254Z
LAST-MODIFIED:20250217T150324Z
UID:2072-1743782400-1743789600@www.ahdvintners.com
SUMMARY:In Style: Fashion + Wearables – Featuring Babylonstoren Wine
DESCRIPTION:
URL:https://www.ahdvintners.com/event/in-style-fashion-wearables-featuring-babylonstoren-wine/
LOCATION:Gutman Gallery\, 118 N. Fourth Ave.\, Ann Arbor\, MI\, 48104\, United States
CATEGORIES:Open to Public
ORGANIZER;CN="AHD Vintners":MAILTO:caroline.lamb@ahdvintners.com
END:VEVENT
BEGIN:VEVENT
DTSTART;TZID=America/New_York:20250319T183000
DTEND;TZID=America/New_York:20250319T203000
DTSTAMP:20260424T164407
CREATED:20250217T145934Z
LAST-MODIFIED:20250217T145934Z
UID:2069-1742409000-1742416200@www.ahdvintners.com
SUMMARY:Babylonstoren Wine Dinner - Wrought Iron Grill
DESCRIPTION:
URL:https://www.ahdvintners.com/event/babylonstoren-wine-dinner-wrought-iron-grill/
LOCATION:Wrought Iron Grill\, 317 Elm St\, Owosso\, MI\, 48867\, United States
CATEGORIES:Open to Public
ORGANIZER;CN="AHD Vintners":MAILTO:caroline.lamb@ahdvintners.com
END:VEVENT
BEGIN:VEVENT
DTSTART;TZID=America/New_York:20250310T180000
DTEND;TZID=America/New_York:20250310T200000
DTSTAMP:20260424T164407
CREATED:20250217T145341Z
LAST-MODIFIED:20250217T150013Z
UID:2066-1741629600-1741636800@www.ahdvintners.com
SUMMARY:Babylonstoren Wine Dinner - Four Roses Café
DESCRIPTION:Join us for our first wine dinner of the season. Our chefs will create an amazing menu to pair with the wines of Babylonstoren. Dinner will include 5 courses each paired with a different wine.\nSeats are limited. Get your tickets today by calling 269-685-1077. \nMonday March 10\nSocial Hour 6:00\nDinner at 6:30\n$80 per person plus tip and tax = $100.80 \nhttps://babylonstoren.com/
URL:https://www.ahdvintners.com/event/babylonstoren-wine-dinner-four-roses-cafe/
LOCATION:Four Roses Café\, 663 North 10th Street\, Plainwell\, MI\, 49080\, United States
CATEGORIES:Open to Public
ORGANIZER;CN="AHD Vintners":MAILTO:caroline.lamb@ahdvintners.com
END:VEVENT
BEGIN:VEVENT
DTSTART;TZID=America/New_York:20250113T180000
DTEND;TZID=America/New_York:20250113T200000
DTSTAMP:20260424T164407
CREATED:20250113T142450Z
LAST-MODIFIED:20250113T142652Z
UID:2060-1736791200-1736798400@www.ahdvintners.com
SUMMARY:Wine Education Series: Wine 101
DESCRIPTION:“We are very excited to begin our Wine Education Series for 2025! Whether you know a lot or a little about wine\, these are perfect way to taste and learn about some truly amazing wines! We will be having a new Wine Education event each month.\n\nOur first Wine Education Series is our Wine 101! We will be having Jaime with AHD in with us to taste through 7 wines and taking about what to look for and how they contrast and compliment each other. There will be small plates provided.\nWe of course welcome all the questions you may have about wine and to help you grow in your knowledge!”\n\n  \nClick here for tickets!
URL:https://www.ahdvintners.com/event/wine-education-series-wine-101/
LOCATION:Grande Finale Bistro\, 110 W Savidge St\, Spring Lake\, MI\, 49456\, United States
CATEGORIES:Open to Public
ORGANIZER;CN="AHD Vintners":MAILTO:caroline.lamb@ahdvintners.com
END:VEVENT
BEGIN:VEVENT
DTSTART;TZID=America/New_York:20241009T160000
DTEND;TZID=America/New_York:20241009T180000
DTSTAMP:20260424T164407
CREATED:20241002T143915Z
LAST-MODIFIED:20241002T143915Z
UID:2025-1728489600-1728496800@www.ahdvintners.com
SUMMARY:Wine Wednesday Tasting with Winemaker Matt Rawn of Two Mountain Winery
DESCRIPTION:Come enjoy a free wine flight and meet winemaker Matt Rawn from Two Mountains in the Yakima Valley of Washington State. \nTwo Mountains wines are a reflection of a 4-generation long commitment to farming in the Yakima Valley. 100% grown\, produced\, and bottled at the family’s estate\, the wines express all that Washington State wine has to offer. \nCharcuterie boards will be available for purchase. \nLearn more about Two Mountains 
URL:https://www.ahdvintners.com/event/wine-wednesday-tasting-with-winemaker-matt-rawn-of-two-mountain-winery/
LOCATION:J-Dubs Wine Shop and Market\, 705 Washington Ave\, Grand Haven\, MI\, 49471\, United States
CATEGORIES:Open to Public
ORGANIZER;CN="AHD Vintners":MAILTO:caroline.lamb@ahdvintners.com
END:VEVENT
BEGIN:VEVENT
DTSTART;TZID=America/New_York:20240926T180000
DTEND;TZID=America/New_York:20240926T210000
DTSTAMP:20260424T164407
CREATED:20240923T144330Z
LAST-MODIFIED:20240923T144330Z
UID:1978-1727373600-1727384400@www.ahdvintners.com
SUMMARY:Italian Wine Dinner @ JAX Northside
DESCRIPTION:Come enjoy the first wine dinner at JAX under new ownership and the beginning of an ongoing dinner series.  \nFeatured wines:\nBorgo Maragliano\, Chardonnay Brut\, Piedmont\, Italy\nMasseria Frattasi\, Falanghina Taburno\, Campania\, Italy\nVilla Di Vetrice\, Chianti Rufina\, Tuscany\, Italy\nTenuta Monteti\, Caburnio\, Tuscany\, Italy \nNo tickets required.
URL:https://www.ahdvintners.com/event/italian-wine-dinner-jax-northside/
LOCATION:JAX Northside Food & Spirits\, 757 Petoskey Avenue\, Charlevoix\, MI\, 49720\, United States
CATEGORIES:Open to Public
ORGANIZER;CN="AHD Vintners":MAILTO:caroline.lamb@ahdvintners.com
END:VEVENT
END:VCALENDAR